View In:
ArcGIS JavaScript
ArcGIS Online Map Viewer
ArcGIS Earth
ArcGIS Pro
Service Description: Taxlot Lot Numbers derived from the Multnomah County Taxlot Annotation
Map Name: CGIS_Taxlot_Lot_Numbers_MultCoAnno
Legend
All Layers and Tables
Dynamic Legend
Dynamic All Layers
Layers:
Description: Taxlot Lot Numbers derived from the Multnomah County Taxlot Annotation
Copyright Text: Bureau of Technology Services - CGIS
Spatial Reference:
102100
(3857)
LatestVCSWkid(0)
Single Fused Map Cache: true
Tile Info:
- Height: 256.0
- Width: 256.0
- DPI: 96.0
-
Levels of Detail: 24
-
Level ID: 1
[ Start Tile, End Tile ]
- Resolution: 78271.5169639999
- Scale: 2.95828763795777E8
-
Level ID: 2
[ Start Tile, End Tile ]
- Resolution: 39135.7584820001
- Scale: 1.47914381897889E8
-
Level ID: 3
[ Start Tile, End Tile ]
- Resolution: 19567.8792409999
- Scale: 7.3957190948944E7
-
Level ID: 4
[ Start Tile, End Tile ]
- Resolution: 9783.93962049996
- Scale: 3.6978595474472E7
-
Level ID: 5
[ Start Tile, End Tile ]
- Resolution: 4891.96981024998
- Scale: 1.8489297737236E7
- Format: PNG32
- Compression Quality: 0.0
- Origin: X: -2.0037508342787E7
Y: 2.0037508342787E7
- Spatial Reference: 102100
(3857)
LatestVCSWkid(0)
Storage Info:
- Storage Format: esriMapCacheStorageModeCompactV2
- Packet Size: 128
Initial Extent:
XMin: -1.3660330926171305E7
YMin: 5697198.181195899
XMax: -1.3660135142579736E7
YMax: 5697356.585134617
Spatial Reference: 102100
(0)
LatestVCSWkid(0)
Full Extent:
XMin: -1.36822171962E7
YMin: 5689828.972199999
XMax: -1.35811478319E7
YMax: 5735884.276500002
Spatial Reference: 102100
(0)
LatestVCSWkid(0)
Units: esriMeters
Supported Image Format Types: PNG32,PNG24,PNG,JPG,DIB,TIFF,EMF,PS,PDF,GIF,SVG,SVGZ,BMP
Document Info:
Title: Taxlot Lot Numbers
Author:
Comments: Taxlot Lot Numbers derived from the Multnomah County Taxlot Annotation
Subject: Taxlot Lot Numbers
Category:
Keywords: lot numbers,taxlots,annotation
AntialiasingMode: Fast
TextAntialiasingMode: Force
Supports Dynamic Layers: true
MaxRecordCount: 100
MaxSelectionCount: 2000
MaxImageHeight: 4096
MaxImageWidth: 4096
Supported Query Formats: JSON, geoJSON, PBF
Supports Query Data Elements: true
Min Scale: 2256.994353
Max Scale: 282.124294
Supports Datum Transformation: true
Child Resources:
Info
Dynamic Layer
Supported Operations:
Export Map
Identify
QueryLegends
QueryDomains
Find
Return Updates